BEGIN:VCALENDAR
VERSION:2.0
PRODID:-//66 Trains - ECPv6.15.20//NONSGML v1.0//EN
CALSCALE:GREGORIAN
METHOD:PUBLISH
X-WR-CALNAME:66 Trains
X-ORIGINAL-URL:https://66trains.com
X-WR-CALDESC:Events for 66 Trains
REFRESH-INTERVAL;VALUE=DURATION:PT1H
X-Robots-Tag:noindex
X-PUBLISHED-TTL:PT1H
BEGIN:VTIMEZONE
TZID:America/Denver
BEGIN:DAYLIGHT
TZOFFSETFROM:-0700
TZOFFSETTO:-0600
TZNAME:MDT
DTSTART:20240310T090000
END:DAYLIGHT
BEGIN:STANDARD
TZOFFSETFROM:-0600
TZOFFSETTO:-0700
TZNAME:MST
DTSTART:20241103T080000
END:STANDARD
BEGIN:DAYLIGHT
TZOFFSETFROM:-0700
TZOFFSETTO:-0600
TZNAME:MDT
DTSTART:20250309T090000
END:DAYLIGHT
BEGIN:STANDARD
TZOFFSETFROM:-0600
TZOFFSETTO:-0700
TZNAME:MST
DTSTART:20251102T080000
END:STANDARD
BEGIN:DAYLIGHT
TZOFFSETFROM:-0700
TZOFFSETTO:-0600
TZNAME:MDT
DTSTART:20260308T090000
END:DAYLIGHT
BEGIN:STANDARD
TZOFFSETFROM:-0600
TZOFFSETTO:-0700
TZNAME:MST
DTSTART:20261101T080000
END:STANDARD
END:VTIMEZONE
BEGIN:VEVENT
DTSTART;TZID=America/Denver:20251109T130000
DTEND;TZID=America/Denver:20251109T140000
DTSTAMP:20260419T085736
CREATED:20251022T224837Z
LAST-MODIFIED:20251022T224904Z
UID:1396-1762693200-1762696800@66trains.com
SUMMARY:MMRRC Club Meeting
DESCRIPTION:The November meeting of the Mohave Model Railroad club will be held on November 9 at 1:00pm at the 66 Trains shop\, 303 Metcalfe Road.  Bring a chair if you plan to attend.
URL:https://66trains.com/event/mmrrc-club-meeting/
LOCATION:66 Trains\, 303 Metcalfe Road\, Kingman\, AZ\, 86401\, United States
CATEGORIES:66 Trains,MMRRC
END:VEVENT
END:VCALENDAR